BEGIN:VCALENDAR
VERSION:2.0
PRODID:-// - ECPv6.15.20//NONSGML v1.0//EN
CALSCALE:GREGORIAN
METHOD:PUBLISH
X-ORIGINAL-URL:https://inwardjapan.com
X-WR-CALDESC:Events for 
REFRESH-INTERVAL;VALUE=DURATION:PT1H
X-Robots-Tag:noindex
X-PUBLISHED-TTL:PT1H
BEGIN:VTIMEZONE
TZID:Europe/London
BEGIN:DAYLIGHT
TZOFFSETFROM:+0000
TZOFFSETTO:+0100
TZNAME:BST
DTSTART:20230326T010000
END:DAYLIGHT
BEGIN:STANDARD
TZOFFSETFROM:+0100
TZOFFSETTO:+0000
TZNAME:GMT
DTSTART:20231029T010000
END:STANDARD
BEGIN:DAYLIGHT
TZOFFSETFROM:+0000
TZOFFSETTO:+0100
TZNAME:BST
DTSTART:20240331T010000
END:DAYLIGHT
BEGIN:STANDARD
TZOFFSETFROM:+0100
TZOFFSETTO:+0000
TZNAME:GMT
DTSTART:20241027T010000
END:STANDARD
BEGIN:DAYLIGHT
TZOFFSETFROM:+0000
TZOFFSETTO:+0100
TZNAME:BST
DTSTART:20250330T010000
END:DAYLIGHT
BEGIN:STANDARD
TZOFFSETFROM:+0100
TZOFFSETTO:+0000
TZNAME:GMT
DTSTART:20251026T010000
END:STANDARD
END:VTIMEZONE
BEGIN:VEVENT
DTSTART;TZID=Europe/London:20241203T093000
DTEND;TZID=Europe/London:20241203T150000
DTSTAMP:20260419T153421
CREATED:20241103T083923Z
LAST-MODIFIED:20241103T085751Z
UID:765-1733218200-1733238000@inwardjapan.com
SUMMARY:Kuya Falls and the Mountain Rivers: A Day of Mountain Hiking and Healing
DESCRIPTION:Hike in the mountains north of Arashiyama\, Kyoto in a mountain gorge toward the beautiful Kuya Falls\, a sacred waterfall on the remote grounds of an Eight Dragon King Shrine. We will practice numerous contemplative exercises on the way\, learning about the origins of these hidden natural wonders as ancient contemplative spaces for mountain ascetics through Japanese history. A day filled with immersing yourself in the magic of nature\, living with the traditions of centuries of contemplatives who came before. \nWe will have also hike to a beautiful spot on the river\, in the mountain gorge with flowing rapids for a picnic and sharing of our experiences. \nCONTACT us for inquiries and reservations
URL:https://inwardjapan.com/event/kuya-falls-and-the-mountain-rivers-a-day-of-mountain-hiking-and-healing/
CATEGORIES:Mountain Hiking and Healing
ATTACH;FMTTYPE=image/jpeg:https://inwardjapan.com/wp-content/uploads/2024/09/kuya3-scaled.jpg
END:VEVENT
END:VCALENDAR