BEGIN:VCALENDAR
VERSION:2.0
PRODID:-// - ECPv6.15.20//NONSGML v1.0//EN
CALSCALE:GREGORIAN
METHOD:PUBLISH
X-ORIGINAL-URL:https://inwardjapan.com
X-WR-CALDESC:Events for 
REFRESH-INTERVAL;VALUE=DURATION:PT1H
X-Robots-Tag:noindex
X-PUBLISHED-TTL:PT1H
BEGIN:VTIMEZONE
TZID:Europe/London
BEGIN:DAYLIGHT
TZOFFSETFROM:+0000
TZOFFSETTO:+0100
TZNAME:BST
DTSTART:20230326T010000
END:DAYLIGHT
BEGIN:STANDARD
TZOFFSETFROM:+0100
TZOFFSETTO:+0000
TZNAME:GMT
DTSTART:20231029T010000
END:STANDARD
BEGIN:DAYLIGHT
TZOFFSETFROM:+0000
TZOFFSETTO:+0100
TZNAME:BST
DTSTART:20240331T010000
END:DAYLIGHT
BEGIN:STANDARD
TZOFFSETFROM:+0100
TZOFFSETTO:+0000
TZNAME:GMT
DTSTART:20241027T010000
END:STANDARD
BEGIN:DAYLIGHT
TZOFFSETFROM:+0000
TZOFFSETTO:+0100
TZNAME:BST
DTSTART:20250330T010000
END:DAYLIGHT
BEGIN:STANDARD
TZOFFSETFROM:+0100
TZOFFSETTO:+0000
TZNAME:GMT
DTSTART:20251026T010000
END:STANDARD
END:VTIMEZONE
BEGIN:VEVENT
DTSTART;TZID=Europe/London:20241210T080000
DTEND;TZID=Europe/London:20241210T150000
DTSTAMP:20260419T153405
CREATED:20241010T094433Z
LAST-MODIFIED:20241103T085551Z
UID:735-1733817600-1733842800@inwardjapan.com
SUMMARY:1-day retreat tour: Sennyuji and the Secret Waterfalls of Fushimi Inari
DESCRIPTION:This contemplative tour takes you through beautiful back-road temples and shrines\, before heading into the hidden mountain trails behind Fushimi Inari Shrine. \nWe will begin the day visiting some small yet serene and gorgeous temples in the Sennyuji temple complex. We will learn some background about the historic statues and the key place of those teachings in the development of Buddhist meditation in Japan. We will also see some famous Japanese garden views in one of the remote temples\, where the serenity invites contemplative introspection. \nMeditation rooms are available in some temple spaces\, while in another\, we will practice a mini-walking meditation pilgrimage after learning about some of the Japanese pilgrimage traditions. \nThe tour continues with hidden back-mountain shrines\, each offering a special mystique. Some of these areas are used for a traditional Japanese spiritual tradition of “taki-gyo” or “waterfall meditation.” The trails will ultimately lead us around the back\, less-traveled paths of Fushimi Inari Shrine\, learning how this special famous shrine grew and developed\, and the roles it plays in Japanese spirituality. \nThe variety of environments you can see within a single part of the day should leave a lasting impression\, and alongside the practices we do in these spaces\, hopefully deep inspiration as well. \nCONTACT us for inquiries and reservations \nMeeting place: Tofukuji Sation\nnote: listed cost includes taxes
URL:https://inwardjapan.com/event/1-day-retreat-tour-sennyuji-and-the-secret-waterfalls-of-fushimi-inari-2/
LOCATION:Tofukuji Sation\, 東山区本町12-224\, Kyoto\, Kyoto\, 605-0981\, Japan
CATEGORIES:Mountain Hiking and Healing,Retreat Tour
ATTACH;FMTTYPE=image/jpeg:https://inwardjapan.com/wp-content/uploads/2024/04/20231028_140817-e1728552331887.jpg
END:VEVENT
END:VCALENDAR