BEGIN:VCALENDAR
VERSION:2.0
PRODID:-// - ECPv6.15.20//NONSGML v1.0//EN
CALSCALE:GREGORIAN
METHOD:PUBLISH
X-ORIGINAL-URL:https://inwardjapan.com
X-WR-CALDESC:Events for 
REFRESH-INTERVAL;VALUE=DURATION:PT1H
X-Robots-Tag:noindex
X-PUBLISHED-TTL:PT1H
BEGIN:VTIMEZONE
TZID:Europe/London
BEGIN:DAYLIGHT
TZOFFSETFROM:+0000
TZOFFSETTO:+0100
TZNAME:BST
DTSTART:20240331T010000
END:DAYLIGHT
BEGIN:STANDARD
TZOFFSETFROM:+0100
TZOFFSETTO:+0000
TZNAME:GMT
DTSTART:20241027T010000
END:STANDARD
BEGIN:DAYLIGHT
TZOFFSETFROM:+0000
TZOFFSETTO:+0100
TZNAME:BST
DTSTART:20250330T010000
END:DAYLIGHT
BEGIN:STANDARD
TZOFFSETFROM:+0100
TZOFFSETTO:+0000
TZNAME:GMT
DTSTART:20251026T010000
END:STANDARD
BEGIN:DAYLIGHT
TZOFFSETFROM:+0000
TZOFFSETTO:+0100
TZNAME:BST
DTSTART:20260329T010000
END:DAYLIGHT
BEGIN:STANDARD
TZOFFSETFROM:+0100
TZOFFSETTO:+0000
TZNAME:GMT
DTSTART:20261025T010000
END:STANDARD
END:VTIMEZONE
BEGIN:VEVENT
DTSTART;TZID=Europe/London:20250301T093000
DTEND;TZID=Europe/London:20250301T153000
DTSTAMP:20260420T102224
CREATED:20241201T101026Z
LAST-MODIFIED:20250301T043434Z
UID:788-1740821400-1740843000@inwardjapan.com
SUMMARY:1-Day Deep Relaxation Meditation Retreat
DESCRIPTION:[Sorry – Registration closed] \nWind down for the start of the New Year with a day of guided meditation and relaxation. From morning through the afternoon\, we will spend a full day traversing through several guided meditation techniques to let go of any tension from the previous year and enter 2025 with a fresh mind and heart. From basic relaxation and breathing exercises to begin the day\, we will gradually move into deeper meditations as the day moves on. \nSitting meditations will alternate with moving meditations like light stretching and Tai Chi. There will also be ample time for reflection and questions. \nCome out feeling refreshed and renewed with a deeper understanding of yourself. \nOrganic Traditional Buddhist Vegetarian Lunch\, tea\, and snacks included\n \nRetreat leader: “Jishin” has taught meditation for more than 20 years\, practicing at temples in Thailand\, Taiwan\, Korea\, and Japan. He is ordained in the Japanese Shingon tradition and also holds a PhD with a focus on Buddhist Studies. Jishin has published and spoken around the world on the application of meditation to care in modern times. \nFor questions\, contact:  \n  \nMinimum participation age: 16
URL:https://inwardjapan.com/event/1-day-deep-relaxation-meditation-retreat/
LOCATION:Heijoin\, 14-8 Sagatenryuji Setogawacho\, Kyoto\, Kyoto\, 616-8376\, Japan
CATEGORIES:Retreat
ATTACH;FMTTYPE=image/jpeg:https://inwardjapan.com/wp-content/uploads/2024/09/20230129_104706-scaled.jpg
END:VEVENT
END:VCALENDAR